BEGIN:VCALENDAR
VERSION:2.0
PRODID:-//RIGHTHERE//CALENDARIZE IT V3.2//EN
BEGIN:VTIMEZONE
TZID:Europe/Berlin
X-MICROSOFT-CDO-TZID:4
BEGIN:STANDARD
DTSTART:20251026T010000
TZOFFSETFROM:+0200
TZOFFSETTO:+0100
TZNAME:CET
END:STANDARD
BEGIN:DAYLIGHT
DTSTART:20260329T010000
TZOFFSETFROM:+0100
TZOFFSETTO:+0200
TZNAME:CEST
END:DAYLIGHT
BEGIN:STANDARD
DTSTART:20261025T010000
TZOFFSETFROM:+0200
TZOFFSETTO:+0100
TZNAME:CET
END:STANDARD
END:VTIMEZONE
BEGIN:VEVENT
UID:4721-events@www.blickueberdenzaun.de
DTSTART;VALUE=DATE:20241108
DTEND;VALUE=DATE:20241110
DTSTAMP;TZID=Europe/Berlin:20231123T140643
SUMMARY:BüZ-KOO: Treffen der Koordinierungsgruppe Max Brauer Schule Hambur
 g
URL:https://www.blickueberdenzaun.de/event/koo-treffen-max-brauer-schule-ha
 mburg/
END:VEVENT
END:VCALENDAR